BEGIN:VCALENDAR
PRODID:-//Microsoft Corporation//Outlook 12.0 MIMEDIR//EN
VERSION:2.0
CALSCALE:GREGORIAN
BEGIN:VEVENT
UID: 3904f355-0dc1-4244-b8b1-6011bde0af2d
SUMMARY:Kevadkontsert
DTSTAMP:20260511T173000
DTSTART:20260511T173000
DTEND:20260511T181500
LOCATION:Aula
DESCRIPTION: <p data-pm-slice="0 0 []">11.05 kell 17:30 toimub Vara Põhikoolis kevadkontsert.</p><p>Kontserdil astub üles tšello duo Olja Raudonen ja Camillo Cabassi.</p><p>Lisaks neile esinevad ka Vara Põhikooli õpilased.</p><p>Kontsert on tasuta!</p><p><strong>Link: </strong>https://vara.edu.ee/et/sundmuste-kalender/kevadkontsert</p><p><strong>Hind: </strong></p>
STATUS:CONFIRMED
SEQUENCE:3
X-ALT-DESC;FMTTYPE=text/html:<p data-pm-slice="0 0 []">11.05 kell 17:30 toimub Vara Põhikoolis kevadkontsert.</p><p>Kontserdil astub üles tšello duo Olja Raudonen ja Camillo Cabassi.</p><p>Lisaks neile esinevad ka Vara Põhikooli õpilased.</p><p>Kontsert on tasuta!</p><p><strong>Link: </strong>https://vara.edu.ee/et/sundmuste-kalender/kevadkontsert</p><p><strong>Hind: </strong></p>
X-MICROSOFT-CDO-BUSYSTATUS:OOF
X-MICROSOFT-CDO-IMPORTANCE:1
X-MICROSOFT-DISALLOW-COUNTER:FALSE
X-MS-OLK-ALLOWEXTERNCHECK:TRUE
X-MS-OLK-CONFTYPE:0
X-MICROSOFT-CDO-ALLDAYEVENT:
X-MICROSOFT-MSNCALENDAR-ALLDAYEVENT:
END:VEVENT
END:VCALENDAR